BEGIN:VCALENDAR
VERSION:2.0
PRODID:-//49.12.112.25//NONSGML kigkonsult.se iCalcreator 2.20//
CALSCALE:GREGORIAN
METHOD:PUBLISH
X-WR-TIMEZONE:Europe/Berlin
BEGIN:VEVENT
UID:event80@IWB Energy Stars
DTSTAMP:20260421T173509Z
CATEGORIES:Freundschafts-Spiel
DESCRIPTION:Hockey Dinos Laufen : IWB Energy Stars\nCategory: Freundschafts
 -Spiel\nLink: https://iwb-energy-stars.ch/index.php?option=com_jem&view=ev
 ent&id=80:freundschaftsspiel\n
DTSTART;TZID=Europe/Berlin:20170219T103000
DTEND;TZID=Europe/Berlin:20170219T120000
LOCATION:Eissport- und Freizeithalle Laufen\,Naustrasse 83\,4242 Laufen
SUMMARY:Hockey Dinos Laufen : IWB Energy Stars
URL:https://iwb-energy-stars.ch/index.php?option=com_jem&view=event&id=80:f
 reundschaftsspiel
END:VEVENT
END:VCALENDAR