BEGIN:VCALENDAR
VERSION:2.0
PRODID:-//49.12.112.25//NONSGML kigkonsult.se iCalcreator 2.20//
CALSCALE:GREGORIAN
METHOD:PUBLISH
X-WR-TIMEZONE:Europe/Berlin
BEGIN:VEVENT
UID:event83@IWB Energy Stars
DTSTAMP:20260421T174009Z
CATEGORIES:Meisterschafts - Spiel
DESCRIPTION:EHC Lausen II : IWB Energy Stars\nCategory: Meisterschafts - Sp
 iel\nLink: https://iwb-energy-stars.ch/index.php?option=com_jem&view=event
 &id=83:ehc-lausen-ii-iwb-energy-stars\n
DTSTART;TZID=Europe/Berlin:20170312T193000
DTEND;TZID=Europe/Berlin:20170312T213000
LOCATION:St. Jakob Arena - Basel
SUMMARY:EHC Lausen II : IWB Energy Stars
URL:https://iwb-energy-stars.ch/index.php?option=com_jem&view=event&id=83:e
 hc-lausen-ii-iwb-energy-stars
END:VEVENT
END:VCALENDAR