BEGIN:VCALENDAR
VERSION:2.0
PRODID:-//49.12.112.25//NONSGML kigkonsult.se iCalcreator 2.20//
CALSCALE:GREGORIAN
METHOD:PUBLISH
X-WR-TIMEZONE:Europe/Berlin
BEGIN:VEVENT
UID:event85@IWB Energy Stars
DTSTAMP:20260421T173941Z
CATEGORIES:Playoff-Spiel
DESCRIPTION:BHL-1/2 Final Energy Stars : Losers \nCategory: Playoff-Spiel\n
 Link: https://iwb-energy-stars.ch/index.php?option=com_jem&view=event&id=8
 5:bhl-1-2-final-energy-stars-losers\n
DTSTART;TZID=Europe/Berlin:20170326T193000
DTEND;TZID=Europe/Berlin:20170326T213000
LOCATION:St. Jakob Arena - Basel
SUMMARY:BHL-1/2 Final Energy Stars : Losers 
URL:https://iwb-energy-stars.ch/index.php?option=com_jem&view=event&id=85:b
 hl-1-2-final-energy-stars-losers
END:VEVENT
END:VCALENDAR