BEGIN:VCALENDAR
VERSION:2.0
PRODID:-//49.12.112.25//NONSGML kigkonsult.se iCalcreator 2.20//
CALSCALE:GREGORIAN
METHOD:PUBLISH
X-WR-TIMEZONE:Europe/Berlin
BEGIN:VEVENT
UID:event88@IWB Energy Stars
DTSTAMP:20260421T173612Z
CATEGORIES:Kein Training
DESCRIPTION:KEIN Training da Ostersonntag!\nCategory: Kein Training\nLink: 
 https://iwb-energy-stars.ch/index.php?option=com_jem&view=event&id=88:kein
 -training-da-ostersonntag\n
DTSTART;VALUE=DATE:20170416
DTEND;VALUE=DATE:20170417
LOCATION:KEIN Training
SUMMARY:KEIN Training da Ostersonntag!
URL:https://iwb-energy-stars.ch/index.php?option=com_jem&view=event&id=88:k
 ein-training-da-ostersonntag
END:VEVENT
END:VCALENDAR