BEGIN:VCALENDAR
VERSION:2.0
PRODID:-//49.12.112.25//NONSGML kigkonsult.se iCalcreator 2.20//
CALSCALE:GREGORIAN
METHOD:PUBLISH
X-WR-TIMEZONE:Europe/Berlin
BEGIN:VEVENT
UID:event93@IWB Energy Stars
DTSTAMP:20260421T173049Z
CATEGORIES:Training
DESCRIPTION:Training ACHTUNG andere Startzeit!\nCategory: Training\nLink: h
 ttps://iwb-energy-stars.ch/index.php?option=com_jem&view=event&id=93:train
 ing\n
DTSTART;TZID=Europe/Berlin:20170521T194500
DTEND;TZID=Europe/Berlin:20170521T211500
LOCATION:St. Jakob Arena - Basel
SUMMARY:Training ACHTUNG andere Startzeit!
URL:https://iwb-energy-stars.ch/index.php?option=com_jem&view=event&id=93:t
 raining
END:VEVENT
END:VCALENDAR