BEGIN:VCALENDAR
VERSION:2.0
PRODID:-//49.12.112.25//NONSGML kigkonsult.se iCalcreator 2.20//
CALSCALE:GREGORIAN
METHOD:PUBLISH
X-WR-TIMEZONE:Europe/Berlin
BEGIN:VEVENT
UID:event94@IWB Energy Stars
DTSTAMP:20260421T173612Z
CATEGORIES:Training
DESCRIPTION:Letztes Training Saison 16 / 17\, Dauer 2 Stunden Spielen\nCate
 gory: Training\nLink: https://iwb-energy-stars.ch/index.php?option=com_jem
 &view=event&id=94:letztes-training-saison-16-17\n
DTSTART;TZID=Europe/Berlin:20170528T193000
DTEND;TZID=Europe/Berlin:20170528T213000
LOCATION:St. Jakob Arena - Basel
SUMMARY:Letztes Training Saison 16 / 17\, Dauer 2 Stunden Spielen
URL:https://iwb-energy-stars.ch/index.php?option=com_jem&view=event&id=94:l
 etztes-training-saison-16-17
END:VEVENT
END:VCALENDAR