BEGIN:VCALENDAR
VERSION:2.0
PRODID:-//49.12.112.25//NONSGML kigkonsult.se iCalcreator 2.20//
CALSCALE:GREGORIAN
METHOD:PUBLISH
X-WR-TIMEZONE:Europe/Berlin
BEGIN:VEVENT
UID:event95@IWB Energy Stars
DTSTAMP:20260421T173201Z
CATEGORIES:Mannschaftsessen
DESCRIPTION:Mannschaftsessen\nCategory: Mannschaftsessen\nLink: https://iwb
 -energy-stars.ch/index.php?option=com_jem&view=event&id=95:mannschaftsesse
 n\n
DTSTART;TZID=Europe/Berlin:20160604T170000
DTEND;TZID=Europe/Berlin:20160604T220000
LOCATION:Gemäss Einladung
SUMMARY:Mannschaftsessen
URL:https://iwb-energy-stars.ch/index.php?option=com_jem&view=event&id=95:m
 annschaftsessen
END:VEVENT
END:VCALENDAR