BEGIN:VCALENDAR
VERSION:2.0
PRODID:-//49.12.112.25//NONSGML kigkonsult.se iCalcreator 2.20//
CALSCALE:GREGORIAN
METHOD:PUBLISH
X-WR-TIMEZONE:Europe/Berlin
BEGIN:VEVENT
UID:event96@IWB Energy Stars
DTSTAMP:20260421T191333Z
CATEGORIES:Kein Training
DESCRIPTION:KEIN TRAINING da Weihnachten\nCategory: Kein Training\nLink: ht
 tps://iwb-energy-stars.ch/index.php?option=com_jem&view=event&id=96:kein-t
 raining-da-weihnachten\n
DTSTART;VALUE=DATE:20161225
DTEND;VALUE=DATE:20161226
LOCATION:KEIN Training
SUMMARY:KEIN TRAINING da Weihnachten
URL:https://iwb-energy-stars.ch/index.php?option=com_jem&view=event&id=96:k
 ein-training-da-weihnachten
END:VEVENT
END:VCALENDAR