BEGIN:VCALENDAR
VERSION:2.0
PRODID:-//49.12.112.25//NONSGML kigkonsult.se iCalcreator 2.20//
CALSCALE:GREGORIAN
METHOD:PUBLISH
X-WR-TIMEZONE:Europe/Berlin
BEGIN:VEVENT
UID:event97@IWB Energy Stars
DTSTAMP:20260421T173801Z
CATEGORIES:IWB-Sportoobe
DESCRIPTION:IWB-Sportoobe\nCategory: IWB-Sportoobe\nLink: https://iwb-energ
 y-stars.ch/index.php?option=com_jem&view=event&id=97:iwb-sportoobe\n
DTSTART;TZID=Europe/Berlin:20160815T170000
DTEND;TZID=Europe/Berlin:20160815T220000
LOCATION:Pruntrutermatte\, Basel
SUMMARY:IWB-Sportoobe
URL:https://iwb-energy-stars.ch/index.php?option=com_jem&view=event&id=97:i
 wb-sportoobe
END:VEVENT
END:VCALENDAR