BEGIN:VCALENDAR
VERSION:2.0
PRODID:-//49.12.112.25//NONSGML kigkonsult.se iCalcreator 2.20//
CALSCALE:GREGORIAN
METHOD:PUBLISH
X-WR-TIMEZONE:Europe/Berlin
BEGIN:VEVENT
UID:event98@IWB Energy Stars
DTSTAMP:20260421T173508Z
CATEGORIES:Trainingsweekend
DESCRIPTION:Trainingsweekend Herrischried-DE 2017\nCategory: Trainingsweeke
 nd\nLink: https://iwb-energy-stars.ch/index.php?option=com_jem&view=event&
 id=98:trainingsweekend-herrischried-de-2017\n
DTSTART;TZID=Europe/Berlin:20171021T113000
DTEND;TZID=Europe/Berlin:20171022T170000
LOCATION:Eishalle Herrischried\,Herrischried / DE
SUMMARY:Trainingsweekend Herrischried-DE 2017
URL:https://iwb-energy-stars.ch/index.php?option=com_jem&view=event&id=98:t
 rainingsweekend-herrischried-de-2017
END:VEVENT
END:VCALENDAR