BEGIN:VCALENDAR
VERSION:2.0
PRODID:-//49.12.112.25//NONSGML kigkonsult.se iCalcreator 2.20//
CALSCALE:GREGORIAN
METHOD:PUBLISH
X-WR-TIMEZONE:Europe/Berlin
BEGIN:VEVENT
UID:event99@IWB Energy Stars
DTSTAMP:20260421T175956Z
CATEGORIES:Kein Training
DESCRIPTION:KEIN Training da 1. Januar\nCategory: Kein Training\nLink: http
 s://iwb-energy-stars.ch/index.php?option=com_jem&view=event&id=99:kein-tra
 ining-da-1-januar\n
DTSTART;VALUE=DATE:20170101
DTEND;VALUE=DATE:20170102
LOCATION:KEIN Training
SUMMARY:KEIN Training da 1. Januar
URL:https://iwb-energy-stars.ch/index.php?option=com_jem&view=event&id=99:k
 ein-training-da-1-januar
END:VEVENT
END:VCALENDAR