BEGIN:VCALENDAR
VERSION:2.0
PRODID:-//49.12.112.25//NONSGML kigkonsult.se iCalcreator 2.20//
CALSCALE:GREGORIAN
METHOD:PUBLISH
X-WR-TIMEZONE:Europe/Berlin
BEGIN:VEVENT
UID:event423@IWB Energy Stars
DTSTAMP:20260421T141813Z
CATEGORIES:Training
DESCRIPTION:Training\nCategory: Training\nLink: https://iwb-energy-stars.ch
 /index.php?option=com_jem&view=event&id=423:no-training\n
DTSTART;TZID=Europe/Berlin:20260426T193000
DTEND;TZID=Europe/Berlin:20260426T210000
LOCATION:St. Jakob Arena - Basel
SUMMARY:Training
URL:https://iwb-energy-stars.ch/index.php?option=com_jem&view=event&id=423:
 no-training
END:VEVENT
BEGIN:VEVENT
UID:event424@IWB Energy Stars
DTSTAMP:20260421T141813Z
CATEGORIES:Training
DESCRIPTION:Training\nCategory: Training\nLink: https://iwb-energy-stars.ch
 /index.php?option=com_jem&view=event&id=424:no-training\n
DTSTART;TZID=Europe/Berlin:20260503T193000
DTEND;TZID=Europe/Berlin:20260503T210000
LOCATION:St. Jakob Arena - Basel
SUMMARY:Training
URL:https://iwb-energy-stars.ch/index.php?option=com_jem&view=event&id=424:
 no-training
END:VEVENT
BEGIN:VEVENT
UID:event425@IWB Energy Stars
DTSTAMP:20260421T141813Z
CATEGORIES:Training
DESCRIPTION:Training\nCategory: Training\nLink: https://iwb-energy-stars.ch
 /index.php?option=com_jem&view=event&id=425:no-training\n
DTSTART;TZID=Europe/Berlin:20260510T193000
DTEND;TZID=Europe/Berlin:20260510T210000
LOCATION:St. Jakob Arena - Basel
SUMMARY:Training
URL:https://iwb-energy-stars.ch/index.php?option=com_jem&view=event&id=425:
 no-training
END:VEVENT
BEGIN:VEVENT
UID:event426@IWB Energy Stars
DTSTAMP:20260421T141813Z
CATEGORIES:Training
DESCRIPTION:Training\nCategory: Training\nLink: https://iwb-energy-stars.ch
 /index.php?option=com_jem&view=event&id=426:no-training\n
DTSTART;TZID=Europe/Berlin:20260517T193000
DTEND;TZID=Europe/Berlin:20260517T210000
LOCATION:St. Jakob Arena - Basel
SUMMARY:Training
URL:https://iwb-energy-stars.ch/index.php?option=com_jem&view=event&id=426:
 no-training
END:VEVENT
END:VCALENDAR